BEGIN:VCALENDAR
VERSION:2.0
PRODID:-//Cameron Parish Library - ECPv6.15.20//NONSGML v1.0//EN
CALSCALE:GREGORIAN
METHOD:PUBLISH
X-ORIGINAL-URL:https://cameron.lib.la.us
X-WR-CALDESC:Events for Cameron Parish Library
REFRESH-INTERVAL;VALUE=DURATION:PT1H
X-Robots-Tag:noindex
X-PUBLISHED-TTL:PT1H
BEGIN:VTIMEZONE
TZID:America/Chicago
BEGIN:DAYLIGHT
TZOFFSETFROM:-0600
TZOFFSETTO:-0500
TZNAME:CDT
DTSTART:20250309T080000
END:DAYLIGHT
BEGIN:STANDARD
TZOFFSETFROM:-0500
TZOFFSETTO:-0600
TZNAME:CST
DTSTART:20251102T070000
END:STANDARD
BEGIN:DAYLIGHT
TZOFFSETFROM:-0600
TZOFFSETTO:-0500
TZNAME:CDT
DTSTART:20260308T080000
END:DAYLIGHT
BEGIN:STANDARD
TZOFFSETFROM:-0500
TZOFFSETTO:-0600
TZNAME:CST
DTSTART:20261101T070000
END:STANDARD
BEGIN:DAYLIGHT
TZOFFSETFROM:-0600
TZOFFSETTO:-0500
TZNAME:CDT
DTSTART:20270314T080000
END:DAYLIGHT
BEGIN:STANDARD
TZOFFSETFROM:-0500
TZOFFSETTO:-0600
TZNAME:CST
DTSTART:20271107T070000
END:STANDARD
END:VTIMEZONE
BEGIN:VEVENT
DTSTART;TZID=America/Chicago:20260422T100000
DTEND;TZID=America/Chicago:20260422T140000
DTSTAMP:20260420T033909
CREATED:20260407T192654Z
LAST-MODIFIED:20260416T142625Z
UID:10000005-1776852000-1776866400@cameron.lib.la.us
SUMMARY:Adult Popsicle Stick Bracelets
DESCRIPTION:
URL:https://cameron.lib.la.us/event/adult-popsicle-stick-bracelets/
CATEGORIES:Grand Chenier
END:VEVENT
BEGIN:VEVENT
DTSTART;TZID=America/Chicago:20260424T100000
DTEND;TZID=America/Chicago:20260424T140000
DTSTAMP:20260420T033909
CREATED:20260407T192654Z
LAST-MODIFIED:20260416T142625Z
UID:10000006-1777024800-1777039200@cameron.lib.la.us
SUMMARY:Children Popsicle Stick Bracelet
DESCRIPTION:
URL:https://cameron.lib.la.us/event/children-popsicle-stick-bracelet/
CATEGORIES:Grand Chenier
END:VEVENT
BEGIN:VEVENT
DTSTART;TZID=America/Chicago:20260429T100000
DTEND;TZID=America/Chicago:20260429T140000
DTSTAMP:20260420T033909
CREATED:20260407T192654Z
LAST-MODIFIED:20260416T142625Z
UID:10000007-1777456800-1777471200@cameron.lib.la.us
SUMMARY:Adult Can Door Hangers
DESCRIPTION:
URL:https://cameron.lib.la.us/event/adult-can-door-hangers/
CATEGORIES:Grand Chenier
END:VEVENT
END:VCALENDAR