BEGIN:VCALENDAR
VERSION:2.0
PRODID:-//Cameron Parish Library - ECPv6.15.20//NONSGML v1.0//EN
CALSCALE:GREGORIAN
METHOD:PUBLISH
X-WR-CALNAME:Cameron Parish Library
X-ORIGINAL-URL:https://cameron.lib.la.us
X-WR-CALDESC:Events for Cameron Parish Library
REFRESH-INTERVAL;VALUE=DURATION:PT1H
X-Robots-Tag:noindex
X-PUBLISHED-TTL:PT1H
BEGIN:VTIMEZONE
TZID:America/Chicago
BEGIN:DAYLIGHT
TZOFFSETFROM:-0600
TZOFFSETTO:-0500
TZNAME:CDT
DTSTART:20250309T080000
END:DAYLIGHT
BEGIN:STANDARD
TZOFFSETFROM:-0500
TZOFFSETTO:-0600
TZNAME:CST
DTSTART:20251102T070000
END:STANDARD
BEGIN:DAYLIGHT
TZOFFSETFROM:-0600
TZOFFSETTO:-0500
TZNAME:CDT
DTSTART:20260308T080000
END:DAYLIGHT
BEGIN:STANDARD
TZOFFSETFROM:-0500
TZOFFSETTO:-0600
TZNAME:CST
DTSTART:20261101T070000
END:STANDARD
BEGIN:DAYLIGHT
TZOFFSETFROM:-0600
TZOFFSETTO:-0500
TZNAME:CDT
DTSTART:20270314T080000
END:DAYLIGHT
BEGIN:STANDARD
TZOFFSETFROM:-0500
TZOFFSETTO:-0600
TZNAME:CST
DTSTART:20271107T070000
END:STANDARD
END:VTIMEZONE
BEGIN:VEVENT
DTSTART;TZID=America/Chicago:20260420T090000
DTEND;TZID=America/Chicago:20260420T160000
DTSTAMP:20260420T050421
CREATED:20260407T192824Z
LAST-MODIFIED:20260416T151506Z
UID:10000013-1776675600-1776700800@cameron.lib.la.us
SUMMARY:Adult Flower Wreath Craft
DESCRIPTION:Join us all week for this activity
URL:https://cameron.lib.la.us/event/adult-flower-wreath-craft/
CATEGORIES:Grand Lake
END:VEVENT
BEGIN:VEVENT
DTSTART;TZID=America/Chicago:20260424T090000
DTEND;TZID=America/Chicago:20260424T140000
DTSTAMP:20260420T050421
CREATED:20260407T192824Z
LAST-MODIFIED:20260416T151506Z
UID:10000014-1777021200-1777039200@cameron.lib.la.us
SUMMARY:Children Safari Craft
DESCRIPTION:
URL:https://cameron.lib.la.us/event/children-safari-craft/
CATEGORIES:Grand Lake
END:VEVENT
BEGIN:VEVENT
DTSTART;TZID=America/Chicago:20260427T090000
DTEND;TZID=America/Chicago:20260427T160000
DTSTAMP:20260420T050421
CREATED:20260407T192824Z
LAST-MODIFIED:20260416T151506Z
UID:10000015-1777280400-1777305600@cameron.lib.la.us
SUMMARY:Adult Ceramic Painting Craft
DESCRIPTION:
URL:https://cameron.lib.la.us/event/adult-ceramic-painting-craft/
CATEGORIES:Grand Lake
END:VEVENT
END:VCALENDAR