BEGIN:VCALENDAR
VERSION:2.0
PRODID:-//Cameron Parish Library - ECPv6.15.20//NONSGML v1.0//EN
CALSCALE:GREGORIAN
METHOD:PUBLISH
X-ORIGINAL-URL:https://cameron.lib.la.us
X-WR-CALDESC:Events for Cameron Parish Library
REFRESH-INTERVAL;VALUE=DURATION:PT1H
X-Robots-Tag:noindex
X-PUBLISHED-TTL:PT1H
BEGIN:VTIMEZONE
TZID:America/Chicago
BEGIN:DAYLIGHT
TZOFFSETFROM:-0600
TZOFFSETTO:-0500
TZNAME:CDT
DTSTART:20250309T080000
END:DAYLIGHT
BEGIN:STANDARD
TZOFFSETFROM:-0500
TZOFFSETTO:-0600
TZNAME:CST
DTSTART:20251102T070000
END:STANDARD
BEGIN:DAYLIGHT
TZOFFSETFROM:-0600
TZOFFSETTO:-0500
TZNAME:CDT
DTSTART:20260308T080000
END:DAYLIGHT
BEGIN:STANDARD
TZOFFSETFROM:-0500
TZOFFSETTO:-0600
TZNAME:CST
DTSTART:20261101T070000
END:STANDARD
BEGIN:DAYLIGHT
TZOFFSETFROM:-0600
TZOFFSETTO:-0500
TZNAME:CDT
DTSTART:20270314T080000
END:DAYLIGHT
BEGIN:STANDARD
TZOFFSETFROM:-0500
TZOFFSETTO:-0600
TZNAME:CST
DTSTART:20271107T070000
END:STANDARD
END:VTIMEZONE
BEGIN:VEVENT
DTSTART;TZID=America/Chicago:20260501T100000
DTEND;TZID=America/Chicago:20260501T140000
DTSTAMP:20260421T075933
CREATED:20260407T192654Z
LAST-MODIFIED:20260416T142625Z
UID:10000008-1777629600-1777644000@cameron.lib.la.us
SUMMARY:Children Mother's Day Card Craft
DESCRIPTION:
URL:https://cameron.lib.la.us/event/children-mothers-day-card-craft/
CATEGORIES:Grand Chenier
END:VEVENT
BEGIN:VEVENT
DTSTART;TZID=America/Chicago:20260501T130000
DTEND;TZID=America/Chicago:20260501T140000
DTSTAMP:20260421T075933
CREATED:20260420T203414Z
LAST-MODIFIED:20260420T203846Z
UID:10000030-1777640400-1777644000@cameron.lib.la.us
SUMMARY:Children Butterfly Whisk Craft
DESCRIPTION:
URL:https://cameron.lib.la.us/event/children-butterfly-whisk-craft/
CATEGORIES:Hackberry
END:VEVENT
BEGIN:VEVENT
DTSTART;TZID=America/Chicago:20260501T130000
DTEND;TZID=America/Chicago:20260501T140000
DTSTAMP:20260421T075933
CREATED:20260420T203421Z
LAST-MODIFIED:20260420T203421Z
UID:10000037-1777640400-1777644000@cameron.lib.la.us
SUMMARY:Children Caterpillar on a Leaf Craft
DESCRIPTION:
URL:https://cameron.lib.la.us/event/children-caterpillar-on-a-leaf-craft/
CATEGORIES:Cameron
END:VEVENT
BEGIN:VEVENT
DTSTART;TZID=America/Chicago:20260504T093000
DTEND;TZID=America/Chicago:20260504T110000
DTSTAMP:20260421T075933
CREATED:20260420T203421Z
LAST-MODIFIED:20260420T203421Z
UID:10000038-1777887000-1777892400@cameron.lib.la.us
SUMMARY:Biscuits & Coffee
DESCRIPTION:Biscuits and Coffee for Everyone ! Come by and have breakfast with the staff and browse our library collection.
URL:https://cameron.lib.la.us/event/biscuits-coffee/
CATEGORIES:Cameron
END:VEVENT
BEGIN:VEVENT
DTSTART;TZID=America/Chicago:20260505T100000
DTEND;TZID=America/Chicago:20260505T110000
DTSTAMP:20260421T075933
CREATED:20260420T203414Z
LAST-MODIFIED:20260420T203846Z
UID:10000031-1777975200-1777978800@cameron.lib.la.us
SUMMARY:Adult Bingo
DESCRIPTION:
URL:https://cameron.lib.la.us/event/adult-bingo-4/
CATEGORIES:Hackberry
END:VEVENT
BEGIN:VEVENT
DTSTART;TZID=America/Chicago:20260508T130000
DTEND;TZID=America/Chicago:20260508T140000
DTSTAMP:20260421T075933
CREATED:20260420T203414Z
LAST-MODIFIED:20260420T203846Z
UID:10000032-1778245200-1778248800@cameron.lib.la.us
SUMMARY:Children Owl Coaster Craft
DESCRIPTION:
URL:https://cameron.lib.la.us/event/children-owl-coaster-craft/
CATEGORIES:Hackberry
END:VEVENT
BEGIN:VEVENT
DTSTART;TZID=America/Chicago:20260508T130000
DTEND;TZID=America/Chicago:20260508T140000
DTSTAMP:20260421T075933
CREATED:20260420T203422Z
LAST-MODIFIED:20260420T203422Z
UID:10000039-1778245200-1778248800@cameron.lib.la.us
SUMMARY:Children Hand Print Lily Craft
DESCRIPTION:
URL:https://cameron.lib.la.us/event/children-hand-print-lily-craft/
CATEGORIES:Cameron
END:VEVENT
BEGIN:VEVENT
DTSTART;TZID=America/Chicago:20260511T100000
DTEND;TZID=America/Chicago:20260511T110000
DTSTAMP:20260421T075933
CREATED:20260420T203422Z
LAST-MODIFIED:20260420T203422Z
UID:10000040-1778493600-1778497200@cameron.lib.la.us
SUMMARY:Adult Bingo
DESCRIPTION:
URL:https://cameron.lib.la.us/event/adult-bingo-6/
CATEGORIES:Cameron
END:VEVENT
BEGIN:VEVENT
DTSTART;TZID=America/Chicago:20260515T130000
DTEND;TZID=America/Chicago:20260515T140000
DTSTAMP:20260421T075933
CREATED:20260420T203414Z
LAST-MODIFIED:20260420T203846Z
UID:10000033-1778850000-1778853600@cameron.lib.la.us
SUMMARY:Children Grasshopper Craft
DESCRIPTION:
URL:https://cameron.lib.la.us/event/children-grasshopper-craft/
CATEGORIES:Hackberry
END:VEVENT
BEGIN:VEVENT
DTSTART;TZID=America/Chicago:20260515T130000
DTEND;TZID=America/Chicago:20260515T140000
DTSTAMP:20260421T075933
CREATED:20260420T203422Z
LAST-MODIFIED:20260420T203422Z
UID:10000041-1778850000-1778853600@cameron.lib.la.us
SUMMARY:Children Grow with Kindness Craft
DESCRIPTION:
URL:https://cameron.lib.la.us/event/children-grow-with-kindness-craft/
CATEGORIES:Cameron
END:VEVENT
BEGIN:VEVENT
DTSTART;TZID=America/Chicago:20260519T100000
DTEND;TZID=America/Chicago:20260519T110000
DTSTAMP:20260421T075933
CREATED:20260420T203415Z
LAST-MODIFIED:20260420T203846Z
UID:10000034-1779184800-1779188400@cameron.lib.la.us
SUMMARY:Adult Bingo
DESCRIPTION:
URL:https://cameron.lib.la.us/event/adult-bingo-5/
CATEGORIES:Hackberry
END:VEVENT
BEGIN:VEVENT
DTSTART;TZID=America/Chicago:20260520T130000
DTEND;TZID=America/Chicago:20260520T140000
DTSTAMP:20260421T075933
CREATED:20260420T203422Z
LAST-MODIFIED:20260420T203422Z
UID:10000042-1779282000-1779285600@cameron.lib.la.us
SUMMARY:Children Storytime
DESCRIPTION:Join us for storytime\, “Eloise’s Mother’s  Day Surprise”.
URL:https://cameron.lib.la.us/event/children-storytime/
CATEGORIES:Cameron
END:VEVENT
BEGIN:VEVENT
DTSTART;TZID=America/Chicago:20260522T130000
DTEND;TZID=America/Chicago:20260522T140000
DTSTAMP:20260421T075933
CREATED:20260420T203415Z
LAST-MODIFIED:20260420T203846Z
UID:10000035-1779454800-1779458400@cameron.lib.la.us
SUMMARY:Children Bee Honeycomb Craft
DESCRIPTION:
URL:https://cameron.lib.la.us/event/children-bee-honeycomb-craft/
CATEGORIES:Hackberry
END:VEVENT
BEGIN:VEVENT
DTSTART;TZID=America/Chicago:20260522T130000
DTEND;TZID=America/Chicago:20260522T140000
DTSTAMP:20260421T075933
CREATED:20260420T203422Z
LAST-MODIFIED:20260420T203422Z
UID:10000043-1779454800-1779458400@cameron.lib.la.us
SUMMARY:Family Movie Day "A Bug's Life"
DESCRIPTION:
URL:https://cameron.lib.la.us/event/family-movie-day-a-bugs-life/
CATEGORIES:Cameron
END:VEVENT
BEGIN:VEVENT
DTSTART;TZID=America/Chicago:20260529T130000
DTEND;TZID=America/Chicago:20260529T140000
DTSTAMP:20260421T075933
CREATED:20260420T203415Z
LAST-MODIFIED:20260420T203846Z
UID:10000036-1780059600-1780063200@cameron.lib.la.us
SUMMARY:Children Shark Craft
DESCRIPTION:
URL:https://cameron.lib.la.us/event/children-shark-craft/
CATEGORIES:Hackberry
END:VEVENT
BEGIN:VEVENT
DTSTART;TZID=America/Chicago:20260529T130000
DTEND;TZID=America/Chicago:20260529T140000
DTSTAMP:20260421T075933
CREATED:20260420T203422Z
LAST-MODIFIED:20260420T203422Z
UID:10000044-1780059600-1780063200@cameron.lib.la.us
SUMMARY:Children Rainbow Craft
DESCRIPTION:
URL:https://cameron.lib.la.us/event/children-rainbow-craft-2/
CATEGORIES:Cameron
END:VEVENT
END:VCALENDAR